BEGIN:VCALENDAR
VERSION:2.0
PRODID:-//Kosmovision Foundation Ltd - ECPv6.15.13.1//NONSGML v1.0//EN
CALSCALE:GREGORIAN
METHOD:PUBLISH
X-WR-CALNAME:Kosmovision Foundation Ltd
X-ORIGINAL-URL:https://kosmovision.org.au
X-WR-CALDESC:Events for Kosmovision Foundation Ltd
REFRESH-INTERVAL;VALUE=DURATION:PT1H
X-Robots-Tag:noindex
X-PUBLISHED-TTL:PT1H
BEGIN:VTIMEZONE
TZID:Australia/Melbourne
BEGIN:STANDARD
TZOFFSETFROM:+1100
TZOFFSETTO:+1000
TZNAME:AEST
DTSTART:20250405T160000
END:STANDARD
BEGIN:DAYLIGHT
TZOFFSETFROM:+1000
TZOFFSETTO:+1100
TZNAME:AEDT
DTSTART:20251004T160000
END:DAYLIGHT
BEGIN:STANDARD
TZOFFSETFROM:+1100
TZOFFSETTO:+1000
TZNAME:AEST
DTSTART:20260404T160000
END:STANDARD
BEGIN:DAYLIGHT
TZOFFSETFROM:+1000
TZOFFSETTO:+1100
TZNAME:AEDT
DTSTART:20261003T160000
END:DAYLIGHT
BEGIN:STANDARD
TZOFFSETFROM:+1100
TZOFFSETTO:+1000
TZNAME:AEST
DTSTART:20270403T160000
END:STANDARD
BEGIN:DAYLIGHT
TZOFFSETFROM:+1000
TZOFFSETTO:+1100
TZNAME:AEDT
DTSTART:20271002T160000
END:DAYLIGHT
END:VTIMEZONE
BEGIN:VEVENT
DTSTART;TZID=Australia/Melbourne:20260311T090000
DTEND;TZID=Australia/Melbourne:20261216T140000
DTSTAMP:20260418T231537
CREATED:20260310T065713Z
LAST-MODIFIED:20260311T121007Z
UID:1054-1773219600-1797429600@kosmovision.org.au
SUMMARY:Community Wellbeing & Participation Program
DESCRIPTION:Creative wellbeing and social-emotional skills for young people\nKosmovision is offering a creative wellbeing program for young people at Canterbury Neighbourhood Centre. \nThis program provides a safe\, calm and inclusive space where participants can develop social-emotional skills\, communication and self-expression through creativity\, storytelling and collaborative activities. \nSessions combine creative exploration\, social interaction and practical life skills\, supporting confidence\, identity and community participation. \nThe program is designed for small groups and diverse communication styles\, including participants who may use AAC or benefit from structured and supportive environments. \nActivities are adapted so each participant can engage and communicate in ways that feel comfortable and meaningful for them. \nFamilies have also expressed interest in strengthening life skills\, literacy and numeracy\, which are gently integrated through creative and practical activities. \nWhat participants develop\n• Social-emotional skills• Communication and self-expression• Confidence and identity• Creativity and imagination• Social connection and participation• Life skills through creative activities \nProgram Details\nLocationCanterbury Neighbourhood Centre \nScheduleWednesdays · 9:00am – 2:00pm \nDuration5-hour community wellbeing session \nNDIS participants may be able to use Capacity Building – Increased Social & Community Participation funding.
URL:https://kosmovision.org.au/event/creative-wellbeing-program-melbourne/
LOCATION:Canterbury Neighbourhood Centre\, 2 Kendall Street\, Canterbury\, Melbourne\, Victoria\, 3126\, Australia
ATTACH;FMTTYPE=image/png:https://kosmovision.org.au/wp-content/uploads/2026/03/Creative-wellbeing-program-canterbury-melbourne-1.png
END:VEVENT
END:VCALENDAR